BEGIN:VCALENDAR
VERSION:2.0
PRODID:-//Triathlonverband Sachsen-Anhalt - ECPv6.15.20//NONSGML v1.0//EN
CALSCALE:GREGORIAN
METHOD:PUBLISH
X-WR-CALNAME:Triathlonverband Sachsen-Anhalt
X-ORIGINAL-URL:https://tvsa-online.de
X-WR-CALDESC:Veranstaltungen für Triathlonverband Sachsen-Anhalt
REFRESH-INTERVAL;VALUE=DURATION:PT1H
X-Robots-Tag:noindex
X-PUBLISHED-TTL:PT1H
BEGIN:VTIMEZONE
TZID:Europe/Berlin
BEGIN:DAYLIGHT
TZOFFSETFROM:+0100
TZOFFSETTO:+0200
TZNAME:CEST
DTSTART:20250330T010000
END:DAYLIGHT
BEGIN:STANDARD
TZOFFSETFROM:+0200
TZOFFSETTO:+0100
TZNAME:CET
DTSTART:20251026T010000
END:STANDARD
BEGIN:DAYLIGHT
TZOFFSETFROM:+0100
TZOFFSETTO:+0200
TZNAME:CEST
DTSTART:20260329T010000
END:DAYLIGHT
BEGIN:STANDARD
TZOFFSETFROM:+0200
TZOFFSETTO:+0100
TZNAME:CET
DTSTART:20261025T010000
END:STANDARD
BEGIN:DAYLIGHT
TZOFFSETFROM:+0100
TZOFFSETTO:+0200
TZNAME:CEST
DTSTART:20270328T010000
END:DAYLIGHT
BEGIN:STANDARD
TZOFFSETFROM:+0200
TZOFFSETTO:+0100
TZNAME:CET
DTSTART:20271031T010000
END:STANDARD
END:VTIMEZONE
BEGIN:VEVENT
DTSTART;VALUE=DATE:20260705
DTEND;VALUE=DATE:20260706
DTSTAMP:20260420T102013
CREATED:20191105T204210Z
LAST-MODIFIED:20251030T204644Z
UID:665-1783209600-1783295999@tvsa-online.de
SUMMARY:Wanzleben Sparkassen-Triathlon
DESCRIPTION:+Swim & Run for Kids
URL:https://tvsa-online.de/event/10-wanzleben-sparkassen-triathlon/
LOCATION:Wanzleben\, Deutschland
CATEGORIES:Landesliga,Rangliste,Swim & Run,Triathlon
END:VEVENT
END:VCALENDAR