BEGIN:VCALENDAR
VERSION:2.0
PRODID:-//Triathlonverband Sachsen-Anhalt - ECPv6.15.20//NONSGML v1.0//EN
CALSCALE:GREGORIAN
METHOD:PUBLISH
X-ORIGINAL-URL:https://tvsa-online.de
X-WR-CALDESC:Veranstaltungen für Triathlonverband Sachsen-Anhalt
REFRESH-INTERVAL;VALUE=DURATION:PT1H
X-Robots-Tag:noindex
X-PUBLISHED-TTL:PT1H
BEGIN:VTIMEZONE
TZID:Europe/Berlin
BEGIN:DAYLIGHT
TZOFFSETFROM:+0100
TZOFFSETTO:+0200
TZNAME:CEST
DTSTART:20250330T010000
END:DAYLIGHT
BEGIN:STANDARD
TZOFFSETFROM:+0200
TZOFFSETTO:+0100
TZNAME:CET
DTSTART:20251026T010000
END:STANDARD
BEGIN:DAYLIGHT
TZOFFSETFROM:+0100
TZOFFSETTO:+0200
TZNAME:CEST
DTSTART:20260329T010000
END:DAYLIGHT
BEGIN:STANDARD
TZOFFSETFROM:+0200
TZOFFSETTO:+0100
TZNAME:CET
DTSTART:20261025T010000
END:STANDARD
BEGIN:DAYLIGHT
TZOFFSETFROM:+0100
TZOFFSETTO:+0200
TZNAME:CEST
DTSTART:20270328T010000
END:DAYLIGHT
BEGIN:STANDARD
TZOFFSETFROM:+0200
TZOFFSETTO:+0100
TZNAME:CET
DTSTART:20271031T010000
END:STANDARD
END:VTIMEZONE
BEGIN:VEVENT
DTSTART;VALUE=DATE:20260816
DTEND;VALUE=DATE:20260817
DTSTAMP:20260420T131333
CREATED:20191216T151021Z
LAST-MODIFIED:20251030T204100Z
UID:980-1786838400-1786924799@tvsa-online.de
SUMMARY:Stadtwerke Halle Triathlon
DESCRIPTION:
URL:https://tvsa-online.de/event/triathlon/
LOCATION:Halle\, Deutschland
CATEGORIES:Deutsche Meisterschaften,Kinderrangliste,Landesliga,Landesmeisterschaften,Rangliste,Regionalliga,Triathlon
END:VEVENT
BEGIN:VEVENT
DTSTART;VALUE=DATE:20260822
DTEND;VALUE=DATE:20260823
DTSTAMP:20260420T131333
CREATED:20191105T204540Z
LAST-MODIFIED:20251030T202908Z
UID:673-1787356800-1787443199@tvsa-online.de
SUMMARY:Salzlandsparkassentriathlon
DESCRIPTION:
URL:https://tvsa-online.de/event/5-salzlandsparkassentriathlon/
LOCATION:Löderburg\, Deutschland
CATEGORIES:Landesliga,Rangliste,Triathlon
END:VEVENT
BEGIN:VEVENT
DTSTART;VALUE=DATE:20260830
DTEND;VALUE=DATE:20260831
DTSTAMP:20260420T131333
CREATED:20191105T204715Z
LAST-MODIFIED:20251030T202343Z
UID:677-1788048000-1788134399@tvsa-online.de
SUMMARY:Hölle von Q
DESCRIPTION:
URL:https://tvsa-online.de/event/6-hoelle-von-q/
LOCATION:Quedlinburg\, Deutschland
CATEGORIES:Landesmeisterschaften,Triathlon
END:VEVENT
BEGIN:VEVENT
DTSTART;VALUE=DATE:20260830
DTEND;VALUE=DATE:20260831
DTSTAMP:20260420T131333
CREATED:20220119T082411Z
LAST-MODIFIED:20251030T202759Z
UID:1772-1788048000-1788134399@tvsa-online.de
SUMMARY:ASR-Arendsee-SwimRun / Swim & Run
DESCRIPTION:
URL:https://tvsa-online.de/event/2-open-water-1-arendsee_swimrun/
LOCATION:Arendsee\, Lindenstraße 31\, Arendsee\, 39619\, Deutschland
CATEGORIES:Rangliste,Swim & Run,Swimrun
ATTACH;FMTTYPE=image/jpeg:https://tvsa-online.de/wp-content/uploads/2022/01/IMG-20231231-WA0073.jpg
END:VEVENT
END:VCALENDAR