BEGIN:VCALENDAR
VERSION:2.0
PRODID:-//Triathlonverband Sachsen-Anhalt - ECPv6.15.20//NONSGML v1.0//EN
CALSCALE:GREGORIAN
METHOD:PUBLISH
X-ORIGINAL-URL:https://tvsa-online.de
X-WR-CALDESC:Veranstaltungen für Triathlonverband Sachsen-Anhalt
REFRESH-INTERVAL;VALUE=DURATION:PT1H
X-Robots-Tag:noindex
X-PUBLISHED-TTL:PT1H
BEGIN:VTIMEZONE
TZID:Europe/Berlin
BEGIN:DAYLIGHT
TZOFFSETFROM:+0100
TZOFFSETTO:+0200
TZNAME:CEST
DTSTART:20250330T010000
END:DAYLIGHT
BEGIN:STANDARD
TZOFFSETFROM:+0200
TZOFFSETTO:+0100
TZNAME:CET
DTSTART:20251026T010000
END:STANDARD
BEGIN:DAYLIGHT
TZOFFSETFROM:+0100
TZOFFSETTO:+0200
TZNAME:CEST
DTSTART:20260329T010000
END:DAYLIGHT
BEGIN:STANDARD
TZOFFSETFROM:+0200
TZOFFSETTO:+0100
TZNAME:CET
DTSTART:20261025T010000
END:STANDARD
BEGIN:DAYLIGHT
TZOFFSETFROM:+0100
TZOFFSETTO:+0200
TZNAME:CEST
DTSTART:20270328T010000
END:DAYLIGHT
BEGIN:STANDARD
TZOFFSETFROM:+0200
TZOFFSETTO:+0100
TZNAME:CET
DTSTART:20271031T010000
END:STANDARD
END:VTIMEZONE
BEGIN:VEVENT
DTSTART;VALUE=DATE:20260905
DTEND;VALUE=DATE:20260906
DTSTAMP:20260420T144220
CREATED:20191105T204007Z
LAST-MODIFIED:20251030T202447Z
UID:659-1788566400-1788652799@tvsa-online.de
SUMMARY:Bergwitztriathlon
DESCRIPTION:An diesem Tag findet die Siegerehrung der Landesliga und der Rangliste statt.
URL:https://tvsa-online.de/event/30-bergwitzsee-triathlon/
LOCATION:Bergwitz\, Deutschland
CATEGORIES:Landesliga,Landesmeisterschaften,Rangliste,Triathlon
END:VEVENT
BEGIN:VEVENT
DTSTART;VALUE=DATE:20260912
DTEND;VALUE=DATE:20260914
DTSTAMP:20260420T144220
CREATED:20251030T203137Z
LAST-MODIFIED:20251120T084643Z
UID:3340-1789171200-1789343999@tvsa-online.de
SUMMARY:Kinder- und Jugendcamp
DESCRIPTION:
URL:https://tvsa-online.de/event/kinder-und-jugendcamp/
LOCATION:Plötzki
END:VEVENT
BEGIN:VEVENT
DTSTART;VALUE=DATE:20260913
DTEND;VALUE=DATE:20260914
DTSTAMP:20260420T144220
CREATED:20191105T205941Z
LAST-MODIFIED:20251030T202150Z
UID:683-1789257600-1789343999@tvsa-online.de
SUMMARY:RIEMER-Team-Triathlon
DESCRIPTION:
URL:https://tvsa-online.de/event/32-riemer-team-triathlon/
LOCATION:Magdeburg (Barleber See)\, Magdeburg\, Sachsen-Anhalt\, 39126\, Deutschland
CATEGORIES:Landesmeisterschaften,Triathlon
END:VEVENT
END:VCALENDAR